BEGIN:VCALENDAR
VERSION:2.0
PRODID:-//Schockes Laurentiushof - Ihr Restaurant &amp; Hotel in Birkweiler - ECPv6.15.20//NONSGML v1.0//EN
CALSCALE:GREGORIAN
METHOD:PUBLISH
X-ORIGINAL-URL:https://schockes-laurentiushof.de
X-WR-CALDESC:Veranstaltungen für Schockes Laurentiushof - Ihr Restaurant &amp; Hotel in Birkweiler
REFRESH-INTERVAL;VALUE=DURATION:PT1H
X-Robots-Tag:noindex
X-PUBLISHED-TTL:PT1H
BEGIN:VTIMEZONE
TZID:Europe/Berlin
BEGIN:DAYLIGHT
TZOFFSETFROM:+0100
TZOFFSETTO:+0200
TZNAME:CEST
DTSTART:20250330T010000
END:DAYLIGHT
BEGIN:STANDARD
TZOFFSETFROM:+0200
TZOFFSETTO:+0100
TZNAME:CET
DTSTART:20251026T010000
END:STANDARD
BEGIN:DAYLIGHT
TZOFFSETFROM:+0100
TZOFFSETTO:+0200
TZNAME:CEST
DTSTART:20260329T010000
END:DAYLIGHT
BEGIN:STANDARD
TZOFFSETFROM:+0200
TZOFFSETTO:+0100
TZNAME:CET
DTSTART:20261025T010000
END:STANDARD
BEGIN:DAYLIGHT
TZOFFSETFROM:+0100
TZOFFSETTO:+0200
TZNAME:CEST
DTSTART:20270328T010000
END:DAYLIGHT
BEGIN:STANDARD
TZOFFSETFROM:+0200
TZOFFSETTO:+0100
TZNAME:CET
DTSTART:20271031T010000
END:STANDARD
END:VTIMEZONE
BEGIN:VEVENT
DTSTART;TZID=Europe/Berlin:20260815T183000
DTEND;TZID=Europe/Berlin:20260815T183000
DTSTAMP:20260423T194135
CREATED:20251103T143259Z
LAST-MODIFIED:20260327T165024Z
UID:10000010-1786818600-1786818600@schockes-laurentiushof.de
SUMMARY:Küchen- und Gartenparty 2026
DESCRIPTION:🌿🍷 Küchen und Gartenparty 2026 🍷🌿 \nDie Nachfrage war überwältigend\, und wir freuen uns riesig\, euch auch 2025 wieder zu unserer Küchen und Gartenparty einladen zu dürfen! 🎉✨ \n🗓 Termin: 15.  August 2026\n🕗 Start: 18:30 Uhr \nPreis: 250 € pro Person (inklusive aller Getränke und Mehrwertsteuer) 🍾🥂 \nFreut euch auf eine unvergessliche Nacht mit peppiger Hintergrundmusik\, köstlichen Speisen und erlesenen Weinen – live von unseren Winzern vor Ort! 🍇🍽️ Ein Teil der Speisen wird serviert\, während ihr den Rest direkt bei unserem Küchenteam abholen dürft. \nAuf folgende Winzer dürft Ihr euch freuen \nWeingut Maximin Grünhaus von der Mosel \nWeingut Kranz aus Ilbesheim \nWeingut Fürst Castell aus Franken \nSichert euch schnell euren Platz! 🏃‍♂️💨 Und denkt daran\, ein Zimmer zu reservieren\, damit ihr nach einem genussvollen Abend entspannt übernachten könnt. \nWir freuen uns auf ein tolles Fest mit euch! ❤️ \nEure Lara Schocke\, Max Schocke und das gesamte Team aus Schockes Küche \n#KüchenUndGartenparty #WeinGenuss #SchockesKüche #Exklusiv #FeiernMitUns
URL:https://schockes-laurentiushof.de/kalender/kuechen-und-gartenparty-2025-2/
LOCATION:Team
ATTACH;FMTTYPE=image/jpeg:https://schockes-laurentiushof.de/wp-content/uploads/2024/12/Schockes-2425-scaled-1.jpg
END:VEVENT
END:VCALENDAR