BEGIN:VCALENDAR
VERSION:2.0
PRODID:-//Schockes Laurentiushof - Ihr Restaurant &amp; Hotel in Birkweiler - ECPv6.15.20//NONSGML v1.0//EN
CALSCALE:GREGORIAN
METHOD:PUBLISH
X-WR-CALNAME:Schockes Laurentiushof - Ihr Restaurant &amp; Hotel in Birkweiler
X-ORIGINAL-URL:https://schockes-laurentiushof.de
X-WR-CALDESC:Veranstaltungen für Schockes Laurentiushof - Ihr Restaurant &amp; Hotel in Birkweiler
REFRESH-INTERVAL;VALUE=DURATION:PT1H
X-Robots-Tag:noindex
X-PUBLISHED-TTL:PT1H
BEGIN:VTIMEZONE
TZID:UTC
BEGIN:STANDARD
TZOFFSETFROM:+0000
TZOFFSETTO:+0000
TZNAME:UTC
DTSTART:20250101T000000
END:STANDARD
END:VTIMEZONE
BEGIN:VEVENT
DTSTART;TZID=UTC:20260724T183000
DTEND;TZID=UTC:20260724T233000
DTSTAMP:20260423T200929
CREATED:20260114T115054Z
LAST-MODIFIED:20260114T115319Z
UID:10000021-1784917800-1784935800@schockes-laurentiushof.de
SUMMARY:Stammtisch für Stammgäste – 5 Jahre Schocks Küche im Laurentiushof
DESCRIPTION:Liebe Stammgäste\, \nam 24. Juli um 18.30 Uhr laden wir Sie herzlich zu einem ganz besonderen Abend ein. \nSeit nunmehr fünf Jahren steht Schockes Küche im Laurentiushof für Genuss\, Handwerk und Persönlichkeit. Viele von Ihnen begleiten uns seit dem ersten Tag\, haben uns geprägt\, inspiriert und sind über die Jahre zu Freunden geworden. Diesen gemeinsamen Weg möchten wir feiern – mit Ihnen\, an einem Tisch. \nAn einer großen gemeinsamen Tafel erleben wir einen Abend voller Genuss und Erinnerungen. Freuen Sie sich auf ein exklusives Sechs-Gänge-Menü\, begleitet von einem Aperitif\, einer hochwertigen Weinbegleitung\, Wasser\, Espresso sowie einer kleinen Überraschung. \nZwischen den Gängen nehmen wir Sie mit auf eine Reise durch fünf Jahre Schockes Laurentiushof und Schockes Küche – mit humorvollen Geschichten\, unglaublichen Begebenheiten und ehrlichen\, lustigen Anekdoten aus unserem Alltag. \nSeien Sie an diesem Abend Teil der Schocke-Familie. Wir freuen uns sehr und hoffen\, unsere liebsten Gäste an einer Tafel vereinen zu dürfen. \nDer Preis für diesen besonderen Abend beträgt 299 € pro Person – alles inklusive. \nDie Platzzahl ist limitiert.\nDie Buchung erfolgt ausschließlich direkt\ntelefonisch unter 06345 914443\noder per E-Mail an gastgeber@schockes-laurentiushof.de. \nIhre Ansprechpartnerin ist Lara Schocke. \nMit herzlichen Grüßen\nSchocke & Team
URL:https://schockes-laurentiushof.de/kalender/stammtisch-fur-stammgaste-5-jahre-schockes-kuche-im-laurentiushof/
LOCATION:Schockes Küche\, Hauptstr. 21\, Birkweiler\, 76831
ATTACH;FMTTYPE=image/webp:https://schockes-laurentiushof.de/wp-content/uploads/2025/11/Untitled-design-4.webp
END:VEVENT
BEGIN:VEVENT
DTSTART;TZID=UTC:20260725T183000
DTEND;TZID=UTC:20260725T233000
DTSTAMP:20260423T200929
CREATED:20260225T191232Z
LAST-MODIFIED:20260408T123257Z
UID:10000025-1785004200-1785022200@schockes-laurentiushof.de
SUMMARY:Hoffest am 25. Juli 2026
DESCRIPTION:5 Jahre Schockes Küche 🍷✨ \nAm 25. Juli feiern wir mit euch – entspannt\, genussvoll und genau so\, wie wir es lieben. \nFlying Dinner mit unseren Lieblingsgerichten aus 5 Jahren\, dazu großartige Weine von Bercher\, Dr. Wehrheim & Jülg (Schweigen-Rechtenbach) 🍇\nEspresso Bar von Julius Meinl ☕\nSound von Carsten Engel 🎶 \nGutes Essen\, gute Drinks\, gute Menschen – und ein Hof\, der vibriert. \n179 € p.P. inkl. aller Speisen & Getränke\nVorverkauf ab sofort möglich \nKommt vorbei & feiert mit uns 🖤 \n#hoffest #schockesküche #laurentiushof #flyingdinner #pfalzliebe #weinliebe #genussmomente
URL:https://schockes-laurentiushof.de/kalender/save-the-date-hoffest-am-25-juli/
LOCATION:Schockes Laurentiushof\, Hauptstr. 21\, Birkweiler\, 76831
ATTACH;FMTTYPE=image/jpeg:https://schockes-laurentiushof.de/wp-content/uploads/2025/11/St_Laurentiushof_Schockes0001-scaled.jpg
END:VEVENT
END:VCALENDAR