BEGIN:VCALENDAR
VERSION:2.0
PRODID:-//Schockes Laurentiushof - Ihr Restaurant &amp; Hotel in Birkweiler - ECPv6.15.20//NONSGML v1.0//EN
CALSCALE:GREGORIAN
METHOD:PUBLISH
X-WR-CALNAME:Schockes Laurentiushof - Ihr Restaurant &amp; Hotel in Birkweiler
X-ORIGINAL-URL:https://schockes-laurentiushof.de
X-WR-CALDESC:Veranstaltungen für Schockes Laurentiushof - Ihr Restaurant &amp; Hotel in Birkweiler
REFRESH-INTERVAL;VALUE=DURATION:PT1H
X-Robots-Tag:noindex
X-PUBLISHED-TTL:PT1H
BEGIN:VTIMEZONE
TZID:Europe/Berlin
BEGIN:DAYLIGHT
TZOFFSETFROM:+0100
TZOFFSETTO:+0200
TZNAME:CEST
DTSTART:20250330T010000
END:DAYLIGHT
BEGIN:STANDARD
TZOFFSETFROM:+0200
TZOFFSETTO:+0100
TZNAME:CET
DTSTART:20251026T010000
END:STANDARD
BEGIN:DAYLIGHT
TZOFFSETFROM:+0100
TZOFFSETTO:+0200
TZNAME:CEST
DTSTART:20260329T010000
END:DAYLIGHT
BEGIN:STANDARD
TZOFFSETFROM:+0200
TZOFFSETTO:+0100
TZNAME:CET
DTSTART:20261025T010000
END:STANDARD
BEGIN:DAYLIGHT
TZOFFSETFROM:+0100
TZOFFSETTO:+0200
TZNAME:CEST
DTSTART:20270328T010000
END:DAYLIGHT
BEGIN:STANDARD
TZOFFSETFROM:+0200
TZOFFSETTO:+0100
TZNAME:CET
DTSTART:20271031T010000
END:STANDARD
END:VTIMEZONE
BEGIN:VEVENT
DTSTART;TZID=Europe/Berlin:20260220T183000
DTEND;TZID=Europe/Berlin:20260220T233000
DTSTAMP:20260423T082606
CREATED:20251103T143259Z
LAST-MODIFIED:20260124T102232Z
UID:10000022-1771612200-1771630200@schockes-laurentiushof.de
SUMMARY:Kastanienbusch – Riesling trifft Schockes Küche
DESCRIPTION:Kastanienbusch – Riesling trifft Schockes Küche \nLiebe Gäste und Freunde von Schockes Küche und dem Weingut Ökonomierat Rebholz\, \nam 20.  Februar laden wir Sie zu einem besonderen Genussabenden ein. Im Mittelpunkt steht die Lage Kastanienbusch – eine der großen Rieslinglagen Deutschlands. \nDie steilen Südhänge und die seltenen roten Schieferböden verleihen den Rieslingen aus dem Kastanienbusch ihre unverwechselbare Mineralität\, Eleganz und Tiefe. Die Weine von Rebholz sind international ausgezeichnet und stehen für Klarheit\, Präzision und Ausdrucksstärke. \nFür diese Abende öffnet die Familie Rebholz ihre Schatzkammer: An diese besonderen Rieslinge kommt man nur sehr selten – ein Erlebnis\, das Liebhaber nicht verpassen sollten. \nDazu serviert Schockes Küche ein fein abgestimmtes 5-Gang-Menü\, das die Charakteristik der Weine aufgreift und kulinarisch ergänzt. Regionale Produkte\, sorgfältiges Handwerk und eine moderne Handschrift verbinden sich zu einer Wein- und Genussreise der besonderen Art. \n📅 20. Februar⏰ Beginn 18:30 Uhr – Ausklang bis Mitternacht📍 Schockes Küche🍴 5 Gänge mit begleitenden Weinen & inkl. Wasser und Espresso \nDie Anzahl der Plätze ist begrenzt. Sichern Sie sich rechtzeitig Ihre Tickets – auch als stilvolles Geschenk zu Weihnachten eine außergewöhnliche Idee.Zimmeranfragen für eine Übernachtung nehmen wir gerne direkt entgegen. \nWir freuen uns auf zwei Abende voller Genuss\, Rieslingkultur und Gastfreundschaft. \nIhreFamilie Rebholz & das Team von Schockes Küche
URL:https://schockes-laurentiushof.de/kalender/kastanienbusch-riesling-trifft-schockes-kueche/
LOCATION:Team
ATTACH;FMTTYPE=image/webp:https://schockes-laurentiushof.de/wp-content/uploads/2024/07/schocke-restauranrt.webp
END:VEVENT
END:VCALENDAR