BEGIN:VCALENDAR
VERSION:2.0
PRODID:-//Schockes Laurentiushof - Ihr Restaurant &amp; Hotel in Birkweiler - ECPv6.15.18//NONSGML v1.0//EN
CALSCALE:GREGORIAN
METHOD:PUBLISH
X-ORIGINAL-URL:https://schockes-laurentiushof.de
X-WR-CALDESC:Veranstaltungen für Schockes Laurentiushof - Ihr Restaurant &amp; Hotel in Birkweiler
REFRESH-INTERVAL;VALUE=DURATION:PT1H
X-Robots-Tag:noindex
X-PUBLISHED-TTL:PT1H
BEGIN:VTIMEZONE
TZID:Europe/Berlin
BEGIN:DAYLIGHT
TZOFFSETFROM:+0100
TZOFFSETTO:+0200
TZNAME:CEST
DTSTART:20240331T010000
END:DAYLIGHT
BEGIN:STANDARD
TZOFFSETFROM:+0200
TZOFFSETTO:+0100
TZNAME:CET
DTSTART:20241027T010000
END:STANDARD
BEGIN:DAYLIGHT
TZOFFSETFROM:+0100
TZOFFSETTO:+0200
TZNAME:CEST
DTSTART:20250330T010000
END:DAYLIGHT
BEGIN:STANDARD
TZOFFSETFROM:+0200
TZOFFSETTO:+0100
TZNAME:CET
DTSTART:20251026T010000
END:STANDARD
BEGIN:DAYLIGHT
TZOFFSETFROM:+0100
TZOFFSETTO:+0200
TZNAME:CEST
DTSTART:20260329T010000
END:DAYLIGHT
BEGIN:STANDARD
TZOFFSETFROM:+0200
TZOFFSETTO:+0100
TZNAME:CET
DTSTART:20261025T010000
END:STANDARD
END:VTIMEZONE
BEGIN:VEVENT
DTSTART;TZID=Europe/Berlin:20251203T180000
DTEND;TZID=Europe/Berlin:20251203T233000
DTSTAMP:20260421T080424
CREATED:20251103T143259Z
LAST-MODIFIED:20251103T143259Z
UID:10000016-1764784800-1764804600@schockes-laurentiushof.de
SUMMARY:Laras Wohnzimmer POP UP
DESCRIPTION:Laras Wohnzimmer Pop-up\nWir „klauen“ uns für drei besondere Abende die Restaurantfläche von Schockes Küche 🥂und verwandeln sie in ein Wohnzimmer voller Herzlichkeit\, Wein und Genuss.Aus der Gourmetbühne wird ein Pop-up mit Charakter – Laras Wohnzimmer. \nLaras Wohnzimmer ist kein klassisches Restaurant.Es ist ein Ort\, an dem du ankommst\, dich fallen lässt und einfach du selbst sein darfst.Wie bei guten Freunden – herzlich\, locker\, echt. \nHier geht es nicht um Sterne oder Etikette\, sondern um gute Gespräche\, ehrlichen Genuss und ein Gefühl von Zuhause.Du sitzt ungezwungen\, triffst Freunde und Bekannte\, trinkst ein Glas Wein und wählst aus einer kleinen\, feinen À-la-carte-Auswahl\, die einfach Spaß macht. \nUnd das Beste:👉 In der Küche steht Maximilian Schocke.Er kocht mit Leidenschaft\, Erfahrung und einem sicheren Gespür für gutes Essen.Gerichte\, die auf den Punkt sind\, Produkte\, die im Mittelpunkt stehen – ohne Schnörkel…. \n✨ Willkommen im Laras Wohnzimmer Pop-up – mitten in Schockes Küche. \nReservierung erforderlich !
URL:https://schockes-laurentiushof.de/kalender/laras-wohnzimmer-pop-up/
LOCATION:Datenschutz
ATTACH;FMTTYPE=image/jpeg:https://schockes-laurentiushof.de/wp-content/uploads/2025/10/Laras_Wohnzimmer_Logo.jpg
END:VEVENT
BEGIN:VEVENT
DTSTART;TZID=Europe/Berlin:20251217T180000
DTEND;TZID=Europe/Berlin:20251217T233000
DTSTAMP:20260421T080424
CREATED:20251103T143300Z
LAST-MODIFIED:20251103T143300Z
UID:10000018-1765994400-1766014200@schockes-laurentiushof.de
SUMMARY:Laras Wohnzimmer Pop-up
DESCRIPTION:Laras Wohnzimmer Pop-up\nWir „klauen“ uns für drei besondere Abende die Restaurantfläche von Schockes Küche 🥂und verwandeln sie in ein Wohnzimmer voller Herzlichkeit\, Wein und Genuss.Aus der Gourmetbühne wird ein Pop-up mit Charakter – Laras Wohnzimmer. \nLaras Wohnzimmer ist kein klassisches Restaurant.Es ist ein Ort\, an dem du ankommst\, dich fallen lässt und einfach du selbst sein darfst.Wie bei guten Freunden – herzlich\, locker\, echt. \nHier geht es nicht um Sterne oder Etikette\, sondern um gute Gespräche\, ehrlichen Genuss und ein Gefühl von Zuhause.Du sitzt ungezwungen\, triffst Freunde und Bekannte\, trinkst ein Glas Wein und wählst aus einer kleinen\, feinen À-la-carte-Auswahl\, die einfach Spaß macht. \nUnd das Beste:👉 In der Küche steht Maximilian Schocke.Er kocht mit Leidenschaft\, Erfahrung und einem sicheren Gespür für gutes Essen.Gerichte\, die auf den Punkt sind\, Produkte\, die im Mittelpunkt stehen – ohne Schnörkel…. \n✨ Willkommen im Laras Wohnzimmer Pop-up – mitten in Schockes Küche. \nReservierung erforderlich !
URL:https://schockes-laurentiushof.de/kalender/laras-wohnzimmer-pop-up-3/
ATTACH;FMTTYPE=image/jpeg:https://schockes-laurentiushof.de/wp-content/uploads/2025/10/Laras_Wohnzimmer_Logo.jpg
END:VEVENT
END:VCALENDAR