BEGIN:VCALENDAR
VERSION:2.0
PRODID:-//Schockes Laurentiushof - Ihr Restaurant &amp; Hotel in Birkweiler - ECPv6.15.20//NONSGML v1.0//EN
CALSCALE:GREGORIAN
METHOD:PUBLISH
X-WR-CALNAME:Schockes Laurentiushof - Ihr Restaurant &amp; Hotel in Birkweiler
X-ORIGINAL-URL:https://schockes-laurentiushof.de
X-WR-CALDESC:Veranstaltungen für Schockes Laurentiushof - Ihr Restaurant &amp; Hotel in Birkweiler
REFRESH-INTERVAL;VALUE=DURATION:PT1H
X-Robots-Tag:noindex
X-PUBLISHED-TTL:PT1H
BEGIN:VTIMEZONE
TZID:Europe/Berlin
BEGIN:DAYLIGHT
TZOFFSETFROM:+0100
TZOFFSETTO:+0200
TZNAME:CEST
DTSTART:20240331T010000
END:DAYLIGHT
BEGIN:STANDARD
TZOFFSETFROM:+0200
TZOFFSETTO:+0100
TZNAME:CET
DTSTART:20241027T010000
END:STANDARD
BEGIN:DAYLIGHT
TZOFFSETFROM:+0100
TZOFFSETTO:+0200
TZNAME:CEST
DTSTART:20250330T010000
END:DAYLIGHT
BEGIN:STANDARD
TZOFFSETFROM:+0200
TZOFFSETTO:+0100
TZNAME:CET
DTSTART:20251026T010000
END:STANDARD
BEGIN:DAYLIGHT
TZOFFSETFROM:+0100
TZOFFSETTO:+0200
TZNAME:CEST
DTSTART:20260329T010000
END:DAYLIGHT
BEGIN:STANDARD
TZOFFSETFROM:+0200
TZOFFSETTO:+0100
TZNAME:CET
DTSTART:20261025T010000
END:STANDARD
END:VTIMEZONE
BEGIN:VEVENT
DTSTART;TZID=Europe/Berlin:20251123T123000
DTEND;TZID=Europe/Berlin:20251123T173000
DTSTAMP:20260423T081136
CREATED:20251103T143259Z
LAST-MODIFIED:20251103T143259Z
UID:10000013-1763901000-1763919000@schockes-laurentiushof.de
SUMMARY:Sonntagmittag im Weingut Rebholz
DESCRIPTION:Manchmal muss man seiner Seele und seinem Gaumen etwas Gutes tun. \nEin Sonntagmittag im Herzen des traditionsreichen Weinguts Rebholz in Siebeldingen. Hier entstehen seit Generationen charakterstarke\, unverfälschte Weine\, die zu den bedeutendsten der Pfalz zählen. Die Familie Rebholz öffnet an diesem Tag nicht nur ihre Türen\, sondern auch ihre Weinseele. \nDazu serviert Schockes Küche ein feinsinniges Menü: Küchenchef Maximilian Schocke\, ausgezeichnet mit einem Michelin-Stern\, verbindet Handwerk\, Kreativität und Klarheit auf dem Teller – ein kulinarischer Dialog mit den Weinen\, der den Mittag zum Erlebnis macht. \nFünf Gänge\, Aperitif und die exklusive Weinbegleitung – in familiärer Atmosphäre\, wie bei Freunden\, und doch einzigartig in seiner Intensität. \n📅 Sonntag\, 23. November · 12:30 Uhr👥 Limitiert auf nur 16 Gäste💶 280 € pro Person \nFotografie Familie Rebholz: Peter Bender
URL:https://schockes-laurentiushof.de/kalender/sonntagmittag-im-weingut-rebholz/
ATTACH;FMTTYPE=image/jpeg:https://schockes-laurentiushof.de/wp-content/uploads/2025/09/csm_img5_d7898a3691.jpg
END:VEVENT
END:VCALENDAR